BEGIN:VCALENDAR
VERSION:2.0
PRODID:-//Notre Dame Institute of Education - ECPv6.14.2//NONSGML v1.0//EN
CALSCALE:GREGORIAN
METHOD:PUBLISH
X-ORIGINAL-URL:https://ndie.edu.pk
X-WR-CALDESC:Events for Notre Dame Institute of Education
REFRESH-INTERVAL;VALUE=DURATION:PT1H
X-Robots-Tag:noindex
X-PUBLISHED-TTL:PT1H
BEGIN:VTIMEZONE
TZID:UTC
BEGIN:STANDARD
TZOFFSETFROM:+0000
TZOFFSETTO:+0000
TZNAME:UTC
DTSTART:20230101T000000
END:STANDARD
END:VTIMEZONE
BEGIN:VEVENT
DTSTART;TZID=UTC:20230309T150000
DTEND;TZID=UTC:20230309T170000
DTSTAMP:20260422T014242
CREATED:20230223T073619Z
LAST-MODIFIED:20230223T080003Z
UID:6970-1678374000-1678381200@ndie.edu.pk
SUMMARY:Teachers as leaders
DESCRIPTION:
URL:https://ndie.edu.pk/event/tal/
LOCATION:Google Meet
CATEGORIES:Event
ATTACH;FMTTYPE=image/png:https://ndie.edu.pk/wp-content/uploads/2023/02/Teachers-as-Leaders_CPD-flyer.png
ORGANIZER;CN="Notre Dame Institute of Education":MAILTO:ndie@ndie.edu.pk
END:VEVENT
BEGIN:VEVENT
DTSTART;TZID=UTC:20230225T100000
DTEND;TZID=UTC:20230225T120000
DTSTAMP:20260422T014242
CREATED:20230215T033943Z
LAST-MODIFIED:20230215T033943Z
UID:6960-1677319200-1677326400@ndie.edu.pk
SUMMARY:Leading Through Change
DESCRIPTION:
URL:https://ndie.edu.pk/event/ltc/
LOCATION:Via Zoom\, Pakistan
CATEGORIES:Event
ATTACH;FMTTYPE=image/jpeg:https://ndie.edu.pk/wp-content/uploads/2023/02/Leading-Through-Change_2nd_Seminar_flyer.jpg
ORGANIZER;CN="Notre Dame Institute of Education":MAILTO:ndie@ndie.edu.pk
END:VEVENT
BEGIN:VEVENT
DTSTART;TZID=UTC:20230218T010000
DTEND;TZID=UTC:20230218T130000
DTSTAMP:20260422T014242
CREATED:20230125T012217Z
LAST-MODIFIED:20230208T065037Z
UID:6885-1676682000-1676725200@ndie.edu.pk
SUMMARY:Writing a Literature Review for Beginners
DESCRIPTION:
URL:https://ndie.edu.pk/event/wlrb/
LOCATION:Notre Dame Institute of Education\, St Patrick’s High School Campus\,\, Karachi\, Sindh\, Pakistan
CATEGORIES:Event
ATTACH;FMTTYPE=image/png:https://ndie.edu.pk/wp-content/uploads/2023/01/Writing-a-literature-reveiw_CPD-flyer_Revised.png
ORGANIZER;CN="Notre Dame Institute of Education":MAILTO:ndie@ndie.edu.pk
END:VEVENT
BEGIN:VEVENT
DTSTART;TZID=UTC:20230211T130000
DTEND;TZID=UTC:20230211T170000
DTSTAMP:20260422T014242
CREATED:20230201T050334Z
LAST-MODIFIED:20230201T050334Z
UID:6901-1676120400-1676134800@ndie.edu.pk
SUMMARY:Let's talk about feelings
DESCRIPTION:
URL:https://ndie.edu.pk/event/ltaf/
LOCATION:Notre Dame Institute of Education\, St Patrick’s High School Campus\,\, Karachi\, Sindh\, Pakistan
CATEGORIES:Event
ATTACH;FMTTYPE=image/png:https://ndie.edu.pk/wp-content/uploads/2023/02/Social_Emotional_Learning_Early_Years_CPD-flyer.png
ORGANIZER;CN="Notre Dame Institute of Education":MAILTO:ndie@ndie.edu.pk
END:VEVENT
BEGIN:VEVENT
DTSTART;TZID=UTC:20230211T100000
DTEND;TZID=UTC:20230211T130000
DTSTAMP:20260422T014242
CREATED:20230206T061739Z
LAST-MODIFIED:20230206T061739Z
UID:6922-1676109600-1676120400@ndie.edu.pk
SUMMARY:The Magic of Read Alouds for Children
DESCRIPTION:
URL:https://ndie.edu.pk/event/mrac/
LOCATION:Notre Dame Institute of Education\, St Patrick’s High School Campus\,\, Karachi\, Sindh\, Pakistan
CATEGORIES:Event
ATTACH;FMTTYPE=image/png:https://ndie.edu.pk/wp-content/uploads/2023/02/Magic-of-Read-alouds_CPD-flyer.png
ORGANIZER;CN="Notre Dame Institute of Education":MAILTO:ndie@ndie.edu.pk
END:VEVENT
BEGIN:VEVENT
DTSTART;TZID=UTC:20230204T130000
DTEND;TZID=UTC:20230204T170000
DTSTAMP:20260422T014242
CREATED:20230126T071004Z
LAST-MODIFIED:20230126T071016Z
UID:6887-1675515600-1675530000@ndie.edu.pk
SUMMARY:Stimulating Cognitive Development in Children: Empowering Teachers
DESCRIPTION:
URL:https://ndie.edu.pk/event/scdcet/
LOCATION:Notre Dame Institute of Education\, St Patrick’s High School Campus\,\, Karachi\, Sindh\, Pakistan
CATEGORIES:Event
ATTACH;FMTTYPE=image/png:https://ndie.edu.pk/wp-content/uploads/2023/01/Stimulating-Cognitive-Development-in-Children_CPD-flyer.png
ORGANIZER;CN="Notre Dame Institute of Education":MAILTO:ndie@ndie.edu.pk
END:VEVENT
BEGIN:VEVENT
DTSTART;TZID=UTC:20230128T130000
DTEND;TZID=UTC:20230128T170000
DTSTAMP:20260422T014242
CREATED:20230111T090047Z
LAST-MODIFIED:20230111T090311Z
UID:6853-1674910800-1674925200@ndie.edu.pk
SUMMARY:Nurturing Healthy Brain Development
DESCRIPTION:
URL:https://ndie.edu.pk/event/nhbd/
LOCATION:Notre Dame Institute of Education\, St Patrick’s High School Campus\,\, Karachi\, Sindh\, Pakistan
CATEGORIES:Event
ATTACH;FMTTYPE=image/png:https://ndie.edu.pk/wp-content/uploads/2023/01/Nurturing-Healthy-Brain-Development-Flyer_Final.png
ORGANIZER;CN="Notre Dame Institute of Education":MAILTO:ndie@ndie.edu.pk
END:VEVENT
BEGIN:VEVENT
DTSTART;TZID=UTC:20230128T100000
DTEND;TZID=UTC:20230128T120000
DTSTAMP:20260422T014242
CREATED:20230112T063100Z
LAST-MODIFIED:20230112T063100Z
UID:6867-1674900000-1674907200@ndie.edu.pk
SUMMARY:Educational Leadership in the 21st Century
DESCRIPTION:
URL:https://ndie.edu.pk/event/elc/
LOCATION:Via Zoom\, Pakistan
CATEGORIES:Event
ATTACH;FMTTYPE=image/png:https://ndie.edu.pk/wp-content/uploads/2023/01/Educational-Leadership-in-the-21st-century.png
ORGANIZER;CN="Notre Dame Institute of Education":MAILTO:ndie@ndie.edu.pk
END:VEVENT
END:VCALENDAR